BEGIN:VCALENDAR
VERSION:2.0
PRODID:-//Spirit of Rugby Lodge #9922 - ECPv6.15.14//NONSGML v1.0//EN
CALSCALE:GREGORIAN
METHOD:PUBLISH
X-ORIGINAL-URL:https://freemasonsrugby.com
X-WR-CALDESC:Events for Spirit of Rugby Lodge #9922
REFRESH-INTERVAL;VALUE=DURATION:PT1H
X-Robots-Tag:noindex
X-PUBLISHED-TTL:PT1H
BEGIN:VTIMEZONE
TZID:UTC
BEGIN:STANDARD
TZOFFSETFROM:+0000
TZOFFSETTO:+0000
TZNAME:UTC
DTSTART:20180101T000000
END:STANDARD
END:VTIMEZONE
BEGIN:VTIMEZONE
TZID:Europe/London
BEGIN:DAYLIGHT
TZOFFSETFROM:+0000
TZOFFSETTO:+0100
TZNAME:BST
DTSTART:20180325T010000
END:DAYLIGHT
BEGIN:STANDARD
TZOFFSETFROM:+0100
TZOFFSETTO:+0000
TZNAME:GMT
DTSTART:20181028T010000
END:STANDARD
BEGIN:DAYLIGHT
TZOFFSETFROM:+0000
TZOFFSETTO:+0100
TZNAME:BST
DTSTART:20190331T010000
END:DAYLIGHT
BEGIN:STANDARD
TZOFFSETFROM:+0100
TZOFFSETTO:+0000
TZNAME:GMT
DTSTART:20191027T010000
END:STANDARD
BEGIN:DAYLIGHT
TZOFFSETFROM:+0000
TZOFFSETTO:+0100
TZNAME:BST
DTSTART:20200329T010000
END:DAYLIGHT
BEGIN:STANDARD
TZOFFSETFROM:+0100
TZOFFSETTO:+0000
TZNAME:GMT
DTSTART:20201025T010000
END:STANDARD
END:VTIMEZONE
BEGIN:VEVENT
DTSTART;TZID=UTC:20190916T183000
DTEND;TZID=UTC:20190916T223000
DTSTAMP:20260422T014355
CREATED:20190124T180652Z
LAST-MODIFIED:20190124T183701Z
UID:1013-1568658600-1568673000@freemasonsrugby.com
SUMMARY:September Regular Meeting
DESCRIPTION:Our September Regular Meeting
URL:https://freemasonsrugby.com/event/september-regular-meeting/
LOCATION:Berkshire
CATEGORIES:Regular Lodge Meetings
END:VEVENT
BEGIN:VEVENT
DTSTART;TZID=UTC:20190415T183000
DTEND;TZID=UTC:20190415T223000
DTSTAMP:20260422T014355
CREATED:20180131T095449Z
LAST-MODIFIED:20190124T174331Z
UID:940-1555353000-1555367400@freemasonsrugby.com
SUMMARY:April Regular Meeting
DESCRIPTION:Our April Regular Meeting \nMembers and Guests are invited to join a guided tour of the Kent Museum of Freemasonry beginning at 2:30pm
URL:https://freemasonsrugby.com/event/november-regular-meeting/
LOCATION:CAnterbury Masonic Centre\, St Peter's Street\, Canterbury\, Kent\, CT1 2DA
CATEGORIES:Regular Lodge Meetings
END:VEVENT
BEGIN:VEVENT
DTSTART;VALUE=DATE:20190330
DTEND;VALUE=DATE:20190331
DTSTAMP:20260422T014355
CREATED:20190324T111343Z
LAST-MODIFIED:20190325T200651Z
UID:1061-1553904000-1553990399@freemasonsrugby.com
SUMMARY:Ruck 'n Maul Lodge No 9974 - Consecration
DESCRIPTION:The newest of the growing family of Rugby Lodges will be consecrated in Berkshire. \nCongratulations to the Founders from all at Spirit of Rugby No. 9922
URL:https://freemasonsrugby.com/event/consecration-ruck-n-maul-lodge-no-9974/
LOCATION:Caversham Masonic Centre. RG4 5DL\, 178 Henley Road\, Reading\, Berkshire\, RG4 5DL\, United Kingdom
CATEGORIES:Regular Lodge Meetings
END:VEVENT
BEGIN:VEVENT
DTSTART;TZID=UTC:20190218T180000
DTEND;TZID=UTC:20190218T230000
DTSTAMP:20260422T014355
CREATED:20180126T145157Z
LAST-MODIFIED:20190124T170027Z
UID:851-1550512800-1550530800@freemasonsrugby.com
SUMMARY:Installation Meeting
DESCRIPTION:The meeting where we will install Robert Mitchell as Worshipful Master for 2019/20. \nRobert will then appoint and invest his team of Officers.
URL:https://freemasonsrugby.com/event/installation-meeting/
LOCATION:Maidstone Masonic Centre\, Tovil\, Maidstone\, ME15 6YH\, United Kingdom
CATEGORIES:Regular Lodge Meetings
END:VEVENT
END:VCALENDAR