BEGIN:VCALENDAR
VERSION:2.0
PRODID:-//Spirit of Rugby Lodge #9922 - ECPv6.15.14//NONSGML v1.0//EN
CALSCALE:GREGORIAN
METHOD:PUBLISH
X-ORIGINAL-URL:https://freemasonsrugby.com
X-WR-CALDESC:Events for Spirit of Rugby Lodge #9922
REFRESH-INTERVAL;VALUE=DURATION:PT1H
X-Robots-Tag:noindex
X-PUBLISHED-TTL:PT1H
BEGIN:VTIMEZONE
TZID:UTC
BEGIN:STANDARD
TZOFFSETFROM:+0000
TZOFFSETTO:+0000
TZNAME:UTC
DTSTART:20180101T000000
END:STANDARD
END:VTIMEZONE
BEGIN:VTIMEZONE
TZID:Europe/London
BEGIN:DAYLIGHT
TZOFFSETFROM:+0000
TZOFFSETTO:+0100
TZNAME:BST
DTSTART:20180325T010000
END:DAYLIGHT
BEGIN:STANDARD
TZOFFSETFROM:+0100
TZOFFSETTO:+0000
TZNAME:GMT
DTSTART:20181028T010000
END:STANDARD
BEGIN:DAYLIGHT
TZOFFSETFROM:+0000
TZOFFSETTO:+0100
TZNAME:BST
DTSTART:20190331T010000
END:DAYLIGHT
BEGIN:STANDARD
TZOFFSETFROM:+0100
TZOFFSETTO:+0000
TZNAME:GMT
DTSTART:20191027T010000
END:STANDARD
BEGIN:DAYLIGHT
TZOFFSETFROM:+0000
TZOFFSETTO:+0100
TZNAME:BST
DTSTART:20200329T010000
END:DAYLIGHT
BEGIN:STANDARD
TZOFFSETFROM:+0100
TZOFFSETTO:+0000
TZNAME:GMT
DTSTART:20201025T010000
END:STANDARD
END:VTIMEZONE
BEGIN:VEVENT
DTSTART;TZID=UTC:20190824T130000
DTEND;TZID=UTC:20190824T170000
DTSTAMP:20260422T092903
CREATED:20190124T175836Z
LAST-MODIFIED:20190124T175836Z
UID:1011-1566651600-1566666000@freemasonsrugby.com
SUMMARY:EKRA Rugby Trip
DESCRIPTION:Join the members of the EKRA\, family and friends as England take on Ireland in a World Cup warm up game.
URL:https://freemasonsrugby.com/event/ekra-rugby-trip/
LOCATION:Twickenham\, Whitton Rd\, Twickenham\, TW2 7BA\, United Kingdom
CATEGORIES:Internationals,Social Events
END:VEVENT
BEGIN:VEVENT
DTSTART;VALUE=DATE:20190629
DTEND;VALUE=DATE:20190630
DTSTAMP:20260422T092903
CREATED:20190321T192850Z
LAST-MODIFIED:20190321T193337Z
UID:1052-1561766400-1561852799@freemasonsrugby.com
SUMMARY:Mardi Gras Ball
DESCRIPTION:The Board of Provincial Stewards invite you to Celebrate the Launch of the 2025 Festival at their Mardi Gras Ball.
URL:https://freemasonsrugby.com/event/mardi-gras-ball/
LOCATION:Ashford International Hotel
CATEGORIES:Social Events
END:VEVENT
BEGIN:VEVENT
DTSTART;TZID=Europe/London:20190526T123000
DTEND;TZID=Europe/London:20190526T160000
DTSTAMP:20260422T092903
CREATED:20190329T075710Z
LAST-MODIFIED:20190329T095733Z
UID:1071-1558873800-1558886400@freemasonsrugby.com
SUMMARY:Wooden Spoon Lunch with Kyran Bracken MBE
DESCRIPTION:The EKRA are delighted to invite you to their latest event\, hosted in partnership with the Spirit of Rugby Lodge No.9922 \nWe are excited to host a lunch with a very special guest speaker\, England Rugby Legend and member of the 2003 World Cup winning squad\, Kyran Bracken MBE! \nKyran\, an award winning public speaker\, has generously agreed to donate his time to speak at this lunch as part of his “Speak-a-thon”\, a series of events to help raise funds for the Wooden Spoon Rugby Charity\, \nEnjoy a 3 course lunch (plus cheese) at the fabulous Cornwallis Suite\, Tovil\, Maidstone; a charity raffle & auction with an opportunity to win some exclusive prizes and of course\, hear our very special guest speaker. \nThe online booking page for the event  is now live. \nTo book places please click here \nPlaces are only £30 each plus booking fee (for a table of 10 we absorb the booking fee). \nPlease do check your diaries and try to support this very special event if you can – and help us raise loads of money for the fabulous Wooden Spoon charity! \nTickets are likely to sell fast\, so please don’t leave your booking until it’s too late!
URL:https://freemasonsrugby.com/event/wooden-spoon-lunch-with-kyran-bracken-mbe/
LOCATION:Maidstone Masonic Centre\, Tovil\, Maidstone\, ME15 6YH\, United Kingdom
CATEGORIES:Social Events
END:VEVENT
END:VCALENDAR