BEGIN:VCALENDAR
VERSION:2.0
PRODID:-//Spirit of Rugby Lodge #9922 - ECPv6.15.14//NONSGML v1.0//EN
CALSCALE:GREGORIAN
METHOD:PUBLISH
X-WR-CALNAME:Spirit of Rugby Lodge #9922
X-ORIGINAL-URL:https://freemasonsrugby.com
X-WR-CALDESC:Events for Spirit of Rugby Lodge #9922
REFRESH-INTERVAL;VALUE=DURATION:PT1H
X-Robots-Tag:noindex
X-PUBLISHED-TTL:PT1H
BEGIN:VTIMEZONE
TZID:Europe/London
BEGIN:DAYLIGHT
TZOFFSETFROM:+0000
TZOFFSETTO:+0100
TZNAME:BST
DTSTART:20240331T010000
END:DAYLIGHT
BEGIN:STANDARD
TZOFFSETFROM:+0100
TZOFFSETTO:+0000
TZNAME:GMT
DTSTART:20241027T010000
END:STANDARD
BEGIN:DAYLIGHT
TZOFFSETFROM:+0000
TZOFFSETTO:+0100
TZNAME:BST
DTSTART:20250330T010000
END:DAYLIGHT
BEGIN:STANDARD
TZOFFSETFROM:+0100
TZOFFSETTO:+0000
TZNAME:GMT
DTSTART:20251026T010000
END:STANDARD
BEGIN:DAYLIGHT
TZOFFSETFROM:+0000
TZOFFSETTO:+0100
TZNAME:BST
DTSTART:20260329T010000
END:DAYLIGHT
BEGIN:STANDARD
TZOFFSETFROM:+0100
TZOFFSETTO:+0000
TZNAME:GMT
DTSTART:20261025T010000
END:STANDARD
END:VTIMEZONE
BEGIN:VEVENT
DTSTART;TZID=Europe/London:20250215T130000
DTEND;TZID=Europe/London:20250215T170000
DTSTAMP:20260421T194034
CREATED:20250211T081314Z
LAST-MODIFIED:20250211T081314Z
UID:1452-1739624400-1739638800@freemasonsrugby.com
SUMMARY:Folkestone RFC VP Lunch
DESCRIPTION:Supporting Folkestone’s VP Lunch – food\, beer\, rugby…. hussah!
URL:https://freemasonsrugby.com/event/folkestone-rfc-vp-lunch/
END:VEVENT
BEGIN:VEVENT
DTSTART;TZID=Europe/London:20250217T180000
DTEND;TZID=Europe/London:20250217T223000
DTSTAMP:20260421T194034
CREATED:20250211T081005Z
LAST-MODIFIED:20250211T130554Z
UID:1449-1739815200-1739831400@freemasonsrugby.com
SUMMARY:Installation Meeting
DESCRIPTION:Join us as our new Skipper takes on the armband for the year! \nGet in touch via spiritofrugby9922@gmail.com
URL:https://freemasonsrugby.com/event/1449/
LOCATION:Maidstone Masonic Centre\, Tovil\, Maidstone\, ME15 6YH\, United Kingdom
END:VEVENT
BEGIN:VEVENT
DTSTART;TZID=Europe/London:20250222T130000
DTEND;TZID=Europe/London:20250222T200000
DTSTAMP:20260421T194034
CREATED:20250211T081629Z
LAST-MODIFIED:20250211T081629Z
UID:1454-1740229200-1740254400@freemasonsrugby.com
SUMMARY:6 Nations Beer & Curry Day
DESCRIPTION:Join us in our private room in the Shozna\, Rochester for a feast of a lunch\, followed by Wales V Ireland.\nThen a short stagger to the Granville  to watch England V Scotland with a light buffet\, accompanied by a beer or twelve.
URL:https://freemasonsrugby.com/event/6-nations-beer-curry-day/
END:VEVENT
END:VCALENDAR